BEGIN:VCALENDAR
VERSION:2.0
PRODID:-//CiviCRM//NONSGML CiviEvent iCal//EN
X-WR-TIMEZONE:Europe/London
METHOD:PUBLISH
BEGIN:VTIMEZONE
TZID:Europe/London
BEGIN:DAYLIGHT
TZOFFSETFROM:+0100
TZOFFSETTO:+0100
TZNAME:BST
DTSTART:20260613T094500
END:DAYLIGHT
END:VTIMEZONE
BEGIN:VEVENT
UID:CiviCRM_EventID_1298_e898fa082af1b8f09050550d914aaef1@www.spab.org.uk
SUMMARY:Caring for their future: Recording\, Repairing\, &
  Researching Mills
X-ALT-DESC;FMTTYPE=text/html:<!DOCTYPE HTML PUBLIC
  "-//W3C//DTD HTML 3.2//EN"><html><body><p>Caring 
 for their future: Recording\, Repairing\, & Resear
 ching Mills</p>\n \n <h4>Saturday 13 June 2026\, 1
 0am – 4.15pm</h4>\n \n <p>Watlington House Garden 
 Hall\, South Street\, Reading RG1 4RA</p>\n \n <p>
 The conference will focus on the maintenance\, rep
 air and monitoring of mills and how to create\, pr
 eserve and display documents.</p>\n \n <h4>Mildred
  Cookson and Nathanael Hodge from the Mills Archiv
 e Trust\, will share their knowledge on caring for
  documents and images and project archivist Hei-Ya
 n Tsui will share some finds from the Rex Wailes c
 ollection. Dr Toby Huitson and Duncan McCallum wil
 l explore the Mills at Risk theme and the intricac
 ies of listing historic buildings. Justin Coombs w
 ill demonstrate his innovative Smartmolen Project\
 , and <span style="font-size:12pt\;"><span style="
 line-height:115%\;"><span style="font-family:Aptos
 \, sans-serif\;"><span style="font-size:10pt\;"><s
 pan style="line-height:115%\;">we will also hear f
 rom water-mill expert Stephen Bartlett about flood
  warning and prevention for watermills.</span></sp
 an></span></span></span></h4>\n \n <p style="margi
 n-bottom:11px\;"><span style="font-size:12pt\;"><s
 pan style="line-height:115%\;"><span style="font-f
 amily:Aptos\, sans-serif\;"><span style="font-size
 :10pt\;"><span style="line-height:115%\;">There wi
 ll be a chaired panel discussion with speakers aft
 er the morning talks and after the afternoon talks
 .</span></span></span></span></span></p>\n \n <p s
 tyle="margin-bottom:11px\;"><span style="font-size
 :12pt\;"><span style="line-height:115%\;"><span st
 yle="font-family:Aptos\, sans-serif\;"><span style
 ="font-size:10pt\;"><span style="line-height:115%\
 ;">Refreshments will be available during break tim
 es.</span></span></span></span></span></p>\n \n <p
  style="margin-bottom:11px\;"><span style="font-si
 ze:12pt\;"><span style="line-height:115%\;"><span 
 style="font-family:Aptos\, sans-serif\;"><span sty
 le="font-size:10pt\;"><span style="line-height:115
 %\;"> Delegates will have the opportunity to see s
 ome of Rex Wailes' drawings on display at the Mill
 s Archive Trust.</span></span></span></span></span
 ></p>\n \n <p style="margin-bottom:11px\;"><span s
 tyle="font-size:12pt\;"><span style="line-height:1
 15%\;"><span style="font-family:Aptos\, sans-serif
 \;"><span style="font-size:10pt\;"><span style="li
 ne-height:115%\;">The Mills Archive Trust will be 
 providing a book stall (cash sales only).</span></
 span></span></span></span></p>\n \n <p style="marg
 in-bottom:11px\;"><strong><span style="font-size:1
 2pt\;"><span style="line-height:115%\;"><span styl
 e="font-family:Aptos\, sans-serif\;"><span style="
 font-size:10pt\;"><span style="line-height:115%\;"
 >Additional information and a detailed programme w
 ill be published at a later time.</span></span></s
 pan></span></span></strong></p>\n \n <h4>You will 
 learn and discover</h4>\n \n <p>By the end of the 
 course\, you will know/understand/be able to: </p>
 \n \n <ul>\n 	<li>\n 	<p>how to record and preserv
 e documents</p>\n 	</li>\n </ul>\n \n <ul>\n 	<li>
 \n 	<p>obtain an overview of mills at risk and mil
 l listing</p>\n 	</li>\n 	<li>\n 	<p>find out abou
 t the newest technology to monitor the wind flow o
 f windmills</p>\n 	</li>\n 	<li>\n 	<p>hear about 
 challenges about mill repairs and maintenance</p>\
 n 	</li>\n </ul>\n \n <h4>Speaker Information</h4>
 \n \n <p><strong>Mildred Cookson</strong> is a for
 mer miller and joined the SPAB Mills Section in 19
 76 and the Section Committee in 1984. She is parti
 cularly involved in working with millwrights\; she
  also established the programme of one-day trainin
 g courses and the Mill Repair Fund. She was previo
 usly a trustee of the SPAB and chairman of the Mil
 ls Section Committee\, and is the editor of the Se
 ction’s magazine ‘Mill News’. She is also actively
  involved as a trustee of the Mills Archive Trust.
 </p>\n \n <p><strong>Nathanael Hodge</strong> has 
 been Archivist of the Mills Archive Trust since 20
 16. In his role he is responsible for taking care 
 of the Trust’s archival collections\, making them 
 available to the public in person and online\, and
  ensuring the Archive adheres to professional stan
 dards and best practice.</p>\n \n <p><strong>Dunca
 n McCallum</strong>\, Chair of the SPAB\, Duncan h
 as almost 40 years of experience in the heritage s
 ector. He studied planning and building conservati
 on at Newcastle and York Universities and undertoo
 k a variety of heritage roles across England in lo
 cal authorities. He joined English Heritage in 199
 6\, later moving to Historic England. His final ro
 le there was as Strategy and Listing Director. He 
 left in 2022 to devote his time to various heritag
 e-related and other voluntary causes.</p>\n \n <p>
 <strong>Justin Coombs</strong> has been a voluntee
 r at Upminster Windmill for over 40 years\, and le
 d the final phases of the Heritage Lottery-funded 
 restoration and activity programme.  During the 20
 20 pandemic he transferred his professional skills
  from software development and electronics to deve
 lop technology to remotely monitor the windmill.  
 This technology has now been deployed to over 30 w
 indmills in the UK\, the Netherlands and Germany. 
  Justin will tell the story of how the technology 
 was designed and built and how the data being coll
 ected is now contributing to mill maintenance and 
 conservation.</p>\n \n <p>Accessibility</p>\n \n <
 ul>\n 	<li>\n 	<p>Ground floor access</p>\n 	</li>
 \n </ul>\n \n <h3>How to get there</h3>\n \n <ul>\
 n 	<li>\n 	<p>The address is Watlington House Gard
 en Hall\, South Street\, Reading RG1 4RA</p>\n 	</
 li>\n </ul>\n \n <ul>\n 	<li>\n 	<p>If you are tra
 velling by train\, the nearest station is Reading 
 Station\, which is around 15 minutes from Watlingt
 on Hall by bus or on foot</p>\n 	</li>\n 	<li>\n 	
 <p>There is no parking at the venue\, but <a href=
 "https://www.google.com/maps/dir/Watlington+House\
 ,+44+Watlington+St\,+Reading+RG1+4RJ/Queens+Road+C
 ar+Park\,+Queens+Rd\,+Reading+RG1+4AR/@51.4534473\
 ,-0.9647638\,18z/data=!4m14!4m13!1m5!1m1!1s0x48769
 b3966c06ac7:0x1e42822c7c631ff1!2m2!1d-0.9616001!2d
 51.4528575!1m5!1m1!1s0x48769b200c4931bd:0xcad465ff
 1e2dd7fc!2m2!1d-0.9659557!2d51.4537084!3e2?entry=t
 tu&g_ep=EgoyMDI2MDMyOS4wIKXMDSoASAFQAw%3D%3D">Quee
 ns Road car park</a> is nearby\, Queens Road\, Rea
 ding RG1 4PX (satnav RG1 4AR) more information <a 
 href="https://www.reading.gov.uk/vehicles-roads-an
 d-transport/parking/car-parks/queens-road-car-park
 /">here</a></p>\n 	</li>\n </ul>\n \n <hr />\n <p>
 <strong>Photos and filming: </strong>We may take p
 hotos or videos at this event to be used in future
  promotion\, including in print and online. Partic
 ipants may take photos and short videos for person
 al use\, with permission of the course leader and 
 all other participants in frame. If you want to po
 st on social media\, please message SPAB's Comms T
 eam (press@spab.org.uk or @spab1877) for permissio
 n. If your material is good\, we might ask to shar
 e it with our followers.</p>\n \n <p>All bookings 
 are subject to our <a href="https://www.spab.org.u
 k/content/booking-terms-and-conditions" rel="noref
 errer noopener" target="_blank">Terms and Conditio
 ns</a>.</p>\n \n <p>Photo credit: Brampton Mill © 
 James Innerdale</p></body></html>
DESCRIPTION:Caring for their future: Recording\, Repairing\, &
  Researching Mills\n \n \n \n Saturday 13 June 202
 6\, 10am – 4.15pm\n \n \n Watlington House Garden 
 Hall\, South Street\, Reading RG1 4RA\n \n \n \n T
 he conference will focus on the maintenance\, repa
 ir and monitoring of mills and how to create\, pre
 serve and display documents.\n \n \n \n Mildred Co
 okson and Nathanael Hodge from the Mills Archive T
 rust\, will share their knowledge on caring for do
 cuments and images and project archivist Hei-Yan T
 sui will share some finds from the Rex Wailes coll
 ection. Dr Toby Huitson and Duncan McCallum will e
 xplore the Mills at Risk theme and the intricacies
  of listing historic buildings. Justin Coombs will
  demonstrate his innovative Smartmolen Project\, a
 nd we will also hear from water-mill expert Stephe
 n Bartlett about flood warning and prevention for 
 watermills.\n \n \n There will be a chaired panel 
 discussion with speakers after the morning talks a
 nd after the afternoon talks.\n \n \n \n Refreshme
 nts will be available during break times.\n \n \n 
 \n  Delegates will have the opportunity to see som
 e of Rex Wailes' drawings on display at the Mills 
 Archive Trust.\n \n \n \n The Mills Archive Trust 
 will be providing a book stall (cash sales only).\
 n \n \n \n Additional information and a detailed p
 rogramme will be published at a later time.\n \n \
 n \n You will learn and discover\n \n \n By the en
 d of the course\, you will know/understand/be able
  to: \n \n \n \n \n 	\n 	how to record and preserv
 e documents\n \n \n 	\n \n \n \n 	\n 	obtain an ov
 erview of mills at risk and mill listing\n \n \n 	
 \n 	\n 	find out about the newest technology to mo
 nitor the wind flow of windmills\n \n \n 	\n 	\n 	
 hear about challenges about mill repairs and maint
 enance\n \n \n 	\n \n \n Speaker Information\n \n 
 \n Mildred Cookson is a former miller and joined t
 he SPAB Mills Section in 1976 and the Section Comm
 ittee in 1984. She is particularly involved in wor
 king with millwrights\; she also established the p
 rogramme of one-day training courses and the Mill 
 Repair Fund. She was previously a trustee of the S
 PAB and chairman of the Mills Section Committee\, 
 and is the editor of the Section’s magazine ‘Mill 
 News’. She is also actively involved as a trustee 
 of the Mills Archive Trust.\n \n \n \n Nathanael H
 odge has been Archivist of the Mills Archive Trust
  since 2016. In his role he is responsible for tak
 ing care of the Trust’s archival collections\, mak
 ing them available to the public in person and onl
 ine\, and ensuring the Archive adheres to professi
 onal standards and best practice.\n \n \n \n Dunca
 n McCallum\, Chair of the SPAB\, Duncan has almost
  40 years of experience in the heritage sector. He
  studied planning and building conservation at New
 castle and York Universities and undertook a varie
 ty of heritage roles across England in local autho
 rities. He joined English Heritage in 1996\, later
  moving to Historic England. His final role there 
 was as Strategy and Listing Director. He left in 2
 022 to devote his time to various heritage-related
  and other voluntary causes.\n \n \n \n Justin Coo
 mbs has been a volunteer at Upminster Windmill for
  over 40 years\, and led the final phases of the H
 eritage Lottery-funded restoration and activity pr
 ogramme.  During the 2020 pandemic he transferred 
 his professional skills from software development 
 and electronics to develop technology to remotely 
 monitor the windmill.  This technology has now bee
 n deployed to over 30 windmills in the UK\, the Ne
 therlands and Germany.  Justin will tell the story
  of how the technology was designed and built and 
 how the data being collected is now contributing t
 o mill maintenance and conservation.\n \n \n \n Ac
 cessibility\n \n \n \n \n 	\n 	Ground floor access
 \n \n \n 	\n \n \n How to get there\n \n \n \n 	\n
  	The address is Watlington House Garden Hall\, So
 uth Street\, Reading RG1 4RA\n \n \n 	\n \n \n \n 
 	\n 	If you are travelling by train\, the nearest 
 station is Reading Station\, which is around 15 mi
 nutes from Watlington Hall by bus or on foot\n \n 
 \n 	\n 	\n 	There is no parking at the venue\, but
  Queens Road car park (https://www.google.com/maps
 /dir/Watlington+House\,+44+Watlington+St\,+Reading
 +RG1+4RJ/Queens+Road+Car+Park\,+Queens+Rd\,+Readin
 g+RG1+4AR/@51.4534473\,-0.9647638\,18z/data=!4m14!
 4m13!1m5!1m1!1s0x48769b3966c06ac7:0x1e42822c7c631f
 f1!2m2!1d-0.9616001!2d51.4528575!1m5!1m1!1s0x48769
 b200c4931bd:0xcad465ff1e2dd7fc!2m2!1d-0.9659557!2d
 51.4537084!3e2?entry=ttu&g_ep=EgoyMDI2MDMyOS4wIKXM
 DSoASAFQAw%3D%3D) is nearby\, Queens Road\, Readin
 g RG1 4PX (satnav RG1 4AR) more information here (
 https://www.reading.gov.uk/vehicles-roads-and-tran
 sport/parking/car-parks/queens-road-car-park/)\n \
 n \n 	\n \n \n \n Photos and filming: We may take 
 photos or videos at this event to be used in futur
 e promotion\, including in print and online. Parti
 cipants may take photos and short videos for perso
 nal use\, with permission of the course leader and
  all other participants in frame. If you want to p
 ost on social media\, please message SPAB's Comms 
 Team (press@spab.org.uk or @spab1877) for permissi
 on. If your material is good\, we might ask to sha
 re it with our followers.\n \n \n \n All bookings 
 are subject to our Terms and Conditions (https://w
 ww.spab.org.uk/content/booking-terms-and-condition
 s).\n \n \n \n Photo credit: Brampton Mill © James
  Innerdale\n \n 
CATEGORIES:Visit
CALSCALE:GREGORIAN
DTSTAMP;TZID=Europe/London:20260613T094500
DTSTART;TZID=Europe/London:20260613T094500
DTEND;TZID=Europe/London:20260613T161500
LOCATION:Watlington Hall\n 44 Watlington Street\n Reading\,
  BRK RG1 4RJ\n United Kingdom\n 
URL:https://www.spab.org.uk/civicrm/event/info?reset=1&id=1298
END:VEVENT
END:VCALENDAR
