BEGIN:VCALENDAR
VERSION:2.0
PRODID:-//CiviCRM//NONSGML CiviEvent iCal//EN
X-WR-TIMEZONE:Europe/London
METHOD:PUBLISH
BEGIN:VTIMEZONE
TZID:Europe/London
BEGIN:DAYLIGHT
TZOFFSETFROM:+0100
TZOFFSETTO:+0100
TZNAME:BST
DTSTART:20260518T000000
END:DAYLIGHT
END:VTIMEZONE
BEGIN:VEVENT
UID:CiviCRM_EventID_1236_e898fa082af1b8f09050550d914aaef1@www.spab.org.uk
SUMMARY:Repair of Old Buildings Course Spring 2026
X-ALT-DESC;FMTTYPE=text/html:<!DOCTYPE HTML PUBLIC
  "-//W3C//DTD HTML 3.2//EN"><html><body><p><strong
 >The Spring In-Person Repair of Old Buildings Cour
 se is now fully booked </strong></p>\n \n <p>Place
 s are still available for the Autumn In-Person Rep
 air of Old Buildings Course: <a href="https://www.
 spab.org.uk/whats-on/repair-old-buildings-course-a
 utumn-2026-0">Repair of Old Buildings Course Autum
 n 2026 | The SPAB</a></p>\n \n <p> </p>\n \n <p><s
 trong>Monday 18 - Friday 22 May 2026</strong></p>\
 n \n <p>Presented by leading building conservation
  professionals\, the course explores British and i
 nternational approaches to the conservation of old
  buildings. The programme is underpinned by the SP
 AB philosophy of repair and maintenance\, as set o
 ut in the <a href="https://www.spab.org.uk/campaig
 ning/spab-approach">SPAB Approach</a>.</p>\n \n <p
 >Through a series of lectures and site visits\, yo
 u’ll gain an in-depth understanding of the repair\
 , maintenance and conservation of old buildings.</
 p>\n \n <h3>Spring and Autumn In-Person Repair of 
 Old Buildings Course Options</h3>\n \n <p>This pag
 e is for our <strong>Spring</strong> Repair of Old
  Buildings course.  </p>\n \n <p>Bookings are also
  open for our <a href="https://www.spab.org.uk/wha
 ts-on/repair-old-buildings-course-autumn-2026-0">A
 utumn Repair of Old Buildings course</a>\, which i
 s also being held at the Museum of the Home from M
 onday 28 September to Friday 2 October 2026.  </p>
 \n \n <h3><span style="font-size:15.21px\;">Online
  Repair of Old Buildings Course</span></h3>\n \n <
 p>We are currently developing a new learning platf
 orm and look forward to launching our updated Onli
 ne Repair of Old Buildings course in 2027\, SPAB's
  150th anniversary year.</p>\n \n <h3><span style=
 "font-size:15.21px\;">What You'll Learn</span></h3
 >\n \n <p><span style="font-size:13px\;">The cours
 e includes lectures on the following topics\, acco
 mpanied by a comprehensive reading list:  </span><
 /p>\n \n <ul>\n 	<li>Conservation principles: The 
 SPAB Approach  </li>\n 	<li>Historic building cont
 rols   </li>\n 	<li>Construction and performance o
 f traditional buildings  </li>\n 	<li>Conservation
  structural engineering </li>\n 	<li>Dealing with 
 damp in old buildings  </li>\n 	<li>The care and r
 epair of historic roofs  </li>\n 	<li>Plasterwork 
 in historic buildings  </li>\n 	<li>Historic paint
 s and wallpapers  </li>\n 	<li>Services in histori
 c buildings   </li>\n 	<li>Stonework repairs  </li
 >\n 	<li>Flintwork repairs </li>\n 	<li>Timber rep
 airs </li>\n 	<li>Traditional brickwork repairs </
 li>\n 	<li>Metalwork  </li>\n 	<li>Lime   </li>\n 
 	<li>Conservation of stained glass  </li>\n 	<li>C
 limate change\, sustainability and retrofitting</l
 i>\n </ul>\n \n <h3>Who is it for?</h3>\n \n <p>Th
 e course welcomes students and professionals inter
 ested in deepening their understanding of old buil
 dings\, and who may be interested in developing wo
 rk in this area.</p>\n \n <p>Past delegates on thi
 s course have included:</p>\n \n <p>Architects\;</
 p>\n \n <p>Architectural Technologists\;</p>\n \n 
 <p>Builders\;</p>\n \n <p>Building Surveyors\;</p>
 \n \n <p>Buildings Archaeologists\;</p>\n \n <p>Co
 nservation Officers and Planners\;</p>\n \n <p>Cra
 ftspeople\;</p>\n \n <p>Project Officers and Manag
 ers\;</p>\n \n <p>Structural Engineers and others.
 </p>\n \n <h3>Assessment</h3>\n \n <p>There is no 
 formal assessment for this course. You will receiv
 e a Certificate of Attendance upon completion. </p
 >\n \n <p>The Repair of Old Buildings Course is re
 cognised by the IHBC for Continuing Professional D
 evelopment (CPD) and RIBA for Career Learning.</p>
 \n \n <p>Bursary places</p>\n \n <p>We have a smal
 l fund to provide bursaries to people who might no
 t otherwise be able to attend.  </p>\n \n <p>If yo
 u would like to apply\, please contact <a href="ma
 ilto:education@spab.org.uk" rel="noreferrer noopen
 er" target="_blank">education@spab.org.uk</a> with
  your CV and a cover letter explaining your need f
 or the bursary and how attending the course will s
 upport your career. Please note the bursary may no
 t cover the full course fee.  </p>\n \n <p>Deadlin
 e: Monday 2 March 2026.</p>\n \n <p>Bursary places
  are made possible thanks to the Donald and Patric
 ia Marsh Fund. </p>\n \n <h3>Accessibility</h3>\n 
 \n <p>Anything we can do to make this course more 
 accessible for you? Please email us at <a href="ma
 ilto:education@spab.org.uk" rel="noreferrer noopen
 er" target="_blank">education@spab.org.uk</a>.</p>
 \n \n <hr />\n <p><a href="https://www.spab.org.uk
 /content/terms-conditions-spab-events-and-courses"
  rel="noreferrer noopener" target="_blank">Booking
  Terms and Conditions</a></p>\n \n <p>Image © Ralp
 h Hodgson</p></body></html>
DESCRIPTION:The Spring In-Person Repair of Old Buildings Cours
 e is now fully booked \n \n \n \n Places are still
  available for the Autumn In-Person Repair of Old 
 Buildings Course: Repair of Old Buildings Course A
 utumn 2026 | The SPAB (https://www.spab.org.uk/wha
 ts-on/repair-old-buildings-course-autumn-2026-0)\n
  \n \n \n  \n \n \n \n Monday 18 - Friday 22 May 2
 026\n \n \n \n Presented by leading building conse
 rvation professionals\, the course explores Britis
 h and international approaches to the conservation
  of old buildings. The programme is underpinned by
  the SPAB philosophy of repair and maintenance\, a
 s set out in the SPAB Approach (https://www.spab.o
 rg.uk/campaigning/spab-approach).\n \n \n \n Throu
 gh a series of lectures and site visits\, you’ll g
 ain an in-depth understanding of the repair\, main
 tenance and conservation of old buildings.\n \n \n
  \n Spring and Autumn In-Person Repair of Old Buil
 dings Course Options\n \n \n This page is for our 
 Spring Repair of Old Buildings course.  \n \n \n \
 n Bookings are also open for our Autumn Repair of 
 Old Buildings course (https://www.spab.org.uk/what
 s-on/repair-old-buildings-course-autumn-2026-0)\, 
 which is also being held at the Museum of the Home
  from Monday 28 September to Friday 2 October 2026
 .  \n \n \n \n Online Repair of Old Buildings Cour
 se\n \n \n We are currently developing a new learn
 ing platform and look forward to launching our upd
 ated Online Repair of Old Buildings course in 2027
 \, SPAB's 150th anniversary year.\n \n \n \n What 
 You'll Learn\n \n \n The course includes lectures 
 on the following topics\, accompanied by a compreh
 ensive reading list:  \n \n \n \n \n 	Conservation
  principles: The SPAB Approach  \n 	Historic build
 ing controls   \n 	Construction and performance of
  traditional buildings  \n 	Conservation structura
 l engineering \n 	Dealing with damp in old buildin
 gs  \n 	The care and repair of historic roofs  \n 
 	Plasterwork in historic buildings  \n 	Historic p
 aints and wallpapers  \n 	Services in historic bui
 ldings   \n 	Stonework repairs  \n 	Flintwork repa
 irs \n 	Timber repairs \n 	Traditional brickwork r
 epairs \n 	Metalwork  \n 	Lime   \n 	Conservation 
 of stained glass  \n 	Climate change\, sustainabil
 ity and retrofitting\n \n \n Who is it for?\n \n \
 n The course welcomes students and professionals i
 nterested in deepening their understanding of old 
 buildings\, and who may be interested in developin
 g work in this area.\n \n \n \n Past delegates on 
 this course have included:\n \n \n \n Architects\;
 \n \n \n \n Architectural Technologists\;\n \n \n 
 \n Builders\;\n \n \n \n Building Surveyors\;\n \n
  \n \n Buildings Archaeologists\;\n \n \n \n Conse
 rvation Officers and Planners\;\n \n \n \n Craftsp
 eople\;\n \n \n \n Project Officers and Managers\;
 \n \n \n \n Structural Engineers and others.\n \n 
 \n \n Assessment\n \n \n There is no formal assess
 ment for this course. You will receive a Certifica
 te of Attendance upon completion. \n \n \n \n The 
 Repair of Old Buildings Course is recognised by th
 e IHBC for Continuing Professional Development (CP
 D) and RIBA for Career Learning.\n \n \n \n Bursar
 y places\n \n \n \n We have a small fund to provid
 e bursaries to people who might not otherwise be a
 ble to attend.  \n \n \n \n If you would like to a
 pply\, please contact education@spab.org.uk (mailt
 o:education@spab.org.uk) with your CV and a cover 
 letter explaining your need for the bursary and ho
 w attending the course will support your career. P
 lease note the bursary may not cover the full cour
 se fee.  \n \n \n \n Deadline: Monday 2 March 2026
 .\n \n \n \n Bursary places are made possible than
 ks to the Donald and Patricia Marsh Fund. \n \n \n
  \n Accessibility\n \n \n Anything we can do to ma
 ke this course more accessible for you? Please ema
 il us at education@spab.org.uk (mailto:education@s
 pab.org.uk).\n \n \n \n \n Booking Terms and Condi
 tions (https://www.spab.org.uk/content/terms-condi
 tions-spab-events-and-courses)\n \n \n \n Image © 
 Ralph Hodgson\n \n 
CATEGORIES:Course
CALSCALE:GREGORIAN
DTSTAMP;TZID=Europe/London:20260518T000000
DTSTART;TZID=Europe/London:20260518T000000
DTEND;TZID=Europe/London:20260522T000000
LOCATION:Museum of the Home (formerly Geffrye museum)\n Mus
 eum of the Home\, Kingsland Road\n LONDON\, E2 8EA
 \n United Kingdom\n 
URL:https://www.spab.org.uk/civicrm/event/info?reset=1&id=1236
END:VEVENT
END:VCALENDAR
